BEGIN:VCALENDAR
VERSION:2.0
PRODID:-//Stormarner Kindertage - ECPv6.11.2.1//NONSGML v1.0//EN
CALSCALE:GREGORIAN
METHOD:PUBLISH
X-WR-CALNAME:Stormarner Kindertage
X-ORIGINAL-URL:https://stormarner-kindertage.de
X-WR-CALDESC:Veranstaltungen für Stormarner Kindertage
REFRESH-INTERVAL;VALUE=DURATION:PT1H
X-Robots-Tag:noindex
X-PUBLISHED-TTL:PT1H
BEGIN:VTIMEZONE
TZID:Europe/Berlin
BEGIN:DAYLIGHT
TZOFFSETFROM:+0100
TZOFFSETTO:+0200
TZNAME:CEST
DTSTART:20220327T010000
END:DAYLIGHT
BEGIN:STANDARD
TZOFFSETFROM:+0200
TZOFFSETTO:+0100
TZNAME:CET
DTSTART:20221030T010000
END:STANDARD
BEGIN:DAYLIGHT
TZOFFSETFROM:+0100
TZOFFSETTO:+0200
TZNAME:CEST
DTSTART:20230326T010000
END:DAYLIGHT
BEGIN:STANDARD
TZOFFSETFROM:+0200
TZOFFSETTO:+0100
TZNAME:CET
DTSTART:20231029T010000
END:STANDARD
END:VTIMEZONE
BEGIN:VEVENT
DTSTART;TZID=Europe/Berlin:20220815T080000
DTEND;TZID=Europe/Berlin:20230731T170000
DTSTAMP:20260423T114557
CREATED:20220811T104756Z
LAST-MODIFIED:20220811T104756Z
UID:2916-1660550400-1690822800@stormarner-kindertage.de
SUMMARY:Wir für euch! Demokratie-AG
DESCRIPTION:In der Arbeitsgemeinschaft werden wir uns zuerst mit den Kinderrechten vertraut machen. Dann wollen wir uns damit beschäftigen\, wie wir das Miteinander in der Schule besser gestalten können. Wir wollen daran arbeiten\, dass unsere Schule ein Ort bleibt\, wo sich alle Kinder und Lehrkräfte wohl fühlen. Gemeinsam wollen wir Regeln erarbeiten\, die dafür nötig sind. Außerdem wollen wir uns damit beschäftigen\, wie das Zusammenleben in unserem Wohnort gestalten wird. Dazu beschäftigen wir uns mit dem Rathaus und lernen Wege kennen\, wie Kinder sich in die Entscheidungen der Politiker einmischen können. \n 
URL:https://stormarner-kindertage.de/veranstaltung/wir-fuer-euch-demokratie-ag/
LOCATION:Grundschule Schmalenbeck\, Sieker Landstraße 203\, Großhansdorf\, 22927
END:VEVENT
BEGIN:VEVENT
DTSTART;TZID=Europe/Berlin:20220901T130000
DTEND;TZID=Europe/Berlin:20220925T140000
DTSTAMP:20260423T114557
CREATED:20220616T091022Z
LAST-MODIFIED:20220909T083434Z
UID:2686-1662037200-1664114400@stormarner-kindertage.de
SUMMARY:Streiten aber richtig!
DESCRIPTION:Schulsoz.päd. und Schulbegleiterin der Grundschule Schmalenbeck bilden Streitschlichter/-innen aus. Ausbildung von 12-14 Schüler/-innen zum Konfliktlotsen/Streitschlichter/in. Schulintern in einer AG\, über den Zeitraum eines halben Schuljahres.
URL:https://stormarner-kindertage.de/veranstaltung/streiten-aber-richtig-4/
END:VEVENT
BEGIN:VEVENT
DTSTART;TZID=Europe/Berlin:20220912T080000
DTEND;TZID=Europe/Berlin:20220925T170000
DTSTAMP:20260423T114557
CREATED:20220701T100454Z
LAST-MODIFIED:20220701T100454Z
UID:2785-1662969600-1664125200@stormarner-kindertage.de
SUMMARY:Hast (Kinder)Recht!
DESCRIPTION:Mit unserer Kreidespray-Aktion rund um den Weltkindertag machen wir auf die Rechte der Kinder aufmerksam. Vor Ort werden auf Gehwegen kleine Bildchen zu sehen sein\, die nicht zu übersehen\, jedoch abwaschbar sind.
URL:https://stormarner-kindertage.de/veranstaltung/hast-kinderrecht/
LOCATION:Kinder- und Jugendarbeit Oststeinbek\, Meesen 32a\, Oststeinbek\, 22113\, Deutschland
ORGANIZER;CN="Kinder- und Jugendarbeit Oststeinbek":MAILTO:kja@oststeinbek.de
END:VEVENT
BEGIN:VEVENT
DTSTART;TZID=Europe/Berlin:20220912T080000
DTEND;TZID=Europe/Berlin:20220925T170000
DTSTAMP:20260423T114557
CREATED:20220701T101735Z
LAST-MODIFIED:20220701T101735Z
UID:2796-1662969600-1664125200@stormarner-kindertage.de
SUMMARY:Vorlesen und Ausstellung
DESCRIPTION:Die Fahrbücherei 11 Stormarn und die Lesepaten der Bürger-Stiftung Stormarn haben sich erneut zusammengetan. In der Fahrbücherei steht während der Stormarner Kindertage eine Ausstellung zum Thema Kinderrechte für alle Interessierten zum Anschauen und Ausleihen. Außerdem ist ein Wimmelbild zum Thema an Bord! In verschiedenen Kitas werden Lesepatinnen zudem Geschichten vorlesen.
URL:https://stormarner-kindertage.de/veranstaltung/vorlesen-und-ausstellung/
LOCATION:Fahrbücherei 11 Stormarn
ORGANIZER;CN="Fahrb%C3%BCcherei 11 Stormarn":MAILTO:info@fahrbuecherei11.de
END:VEVENT
BEGIN:VEVENT
DTSTART;TZID=Europe/Berlin:20220912T080000
DTEND;TZID=Europe/Berlin:20220925T170000
DTSTAMP:20260423T114557
CREATED:20220809T074640Z
LAST-MODIFIED:20220809T074640Z
UID:2905-1662969600-1664125200@stormarner-kindertage.de
SUMMARY:Kostenlose Probestunde am Wunschinstrument
DESCRIPTION:Für Kinder ab 7 Jahren bietet die Musikschule Thomas Lass eine kostenlose Probestunde am Wunschinstrument an. „Unmusikalisch“ oder „vermeintlich untalentiert“ ist gar nicht schlimm – was zählt\, ist die Begeisterung für selbstgemachte Musik. Umso schöner ist es\, die Musikalität zu entdecken und zu fördern\, die in jedem von uns steckt! Termine nach Vereinbarung\, Ansprechpartner Herr Endreß.
URL:https://stormarner-kindertage.de/veranstaltung/kostenlose-probestunde-am-wunschinstrument-2/
LOCATION:Musikschule Thomas Lass\, Wurth 7\, Bargteheide\, 22941
ORGANIZER;CN="Musikschule Thomas Lass":MAILTO:infomail@lass-musik.de
END:VEVENT
BEGIN:VEVENT
DTSTART;TZID=Europe/Berlin:20220912T080000
DTEND;TZID=Europe/Berlin:20220926T170000
DTSTAMP:20260423T114557
CREATED:20220701T103106Z
LAST-MODIFIED:20220701T103443Z
UID:2806-1662969600-1664211600@stormarner-kindertage.de
SUMMARY:Naturkunst für Kinder von 3 bis 6 Jahren
DESCRIPTION:Auch in diesem Jahr bietet die Berufliche Schule in Bad Oldesloe ein Angebot für die Altersgruppe der Kinder von 3 bis 6 Jahre an. In Anlehnung an das Konzept Landart werden unterschiedliche Aktivitäten für eine Kindergartengruppe vorbereitet. Bei Landart spielen und bauen die Kinder mit dem\, was die Natur\, der Ort und die Jahreszeit bereit hält. Es handelt sich in erster Linie um ein vergnügtes\, spielerisches und spannendes Naturerlebnis mit allen Sinnen\, bei dem die Kinder mit Kopf\, Herz\, Seele und vor allem mit der Hand spielen\, bauen und experimentieren. Die Kinder drücken mit Naturmaterialien ihre Gedanken und Ideen\, Wünsche\, Sehnsüchte und Ängste aus. Diese Art des Gestaltens ermöglicht den Kindern das Sein im Hier und Jetzt. Diese Veranstaltung kann auf dem Außengelände der Schule oder nach Absprache an einem anderen Ort (z.B. auf dem Außengelände Ihrer Kita) stattfinden. \nDatum nach Absprache; Dauer des Angebotes ca. 3 – 4 Stunden
URL:https://stormarner-kindertage.de/veranstaltung/naturkunst-fuer-kinder-von-3-bis-6-jahren/
LOCATION:nach Absprache
END:VEVENT
BEGIN:VEVENT
DTSTART;TZID=Europe/Berlin:20220912T110000
DTEND;TZID=Europe/Berlin:20220923T180000
DTSTAMP:20260423T114557
CREATED:20220825T122520Z
LAST-MODIFIED:20220825T122520Z
UID:3072-1662980400-1663956000@stormarner-kindertage.de
SUMMARY:Kinderrechte Medienausstellung
DESCRIPTION:Wir stellen eine Vielzahl von Büchern und anderen Medien rund um das Thema Kinderrechte aus. Alle Altersgruppen können sich informieren und die Medien ausleihen. Wer Zeit und Lust hat\, kann gemeinsam das kimemo spielen – eine Bilderpaarsuche zu den Kinderrechten. Außerdem liegen Ausmalbilder und kostenfreies Informationsmaterial zum Mitnehmen bereit.
URL:https://stormarner-kindertage.de/veranstaltung/kinderrechte-medienausstellung-2/
LOCATION:Stadtbibliothek Bargteheide\, Am Markt 4\, Bargteheide\, 22941
ORGANIZER;CN="Stadtbibliothek Bargteheide":MAILTO:wengorz@bargteheide.de
END:VEVENT
BEGIN:VEVENT
DTSTART;TZID=Europe/Berlin:20220913T080000
DTEND;TZID=Europe/Berlin:20220926T170000
DTSTAMP:20260423T114557
CREATED:20220701T103853Z
LAST-MODIFIED:20220701T103853Z
UID:2810-1663056000-1664211600@stormarner-kindertage.de
SUMMARY:UN-Kinderrechte - Eine geschlossene Ausstellung
DESCRIPTION:Die Berufliche Schule des Kreises Stormarn in Bad Oldesloe ist u.a. für die Ausbildung von ca. 320 Erzieher:innen und Sozialpädagogischen Assistent:innen zuständig. Als zukünftige pädagogische Fachkräfte sind diese Menschen für die Umsetzung und Realisierung der UN-Kinderrechtskonvention verantwortlich. Im Rahmen der Stormarner Kindertage findet eine kreative Auseinandersetzung mit den einzelnen Rechten statt\, die in einer Ausstellung im großen Foyer der Schule ihren Abschluss finden wird.
URL:https://stormarner-kindertage.de/veranstaltung/un-kinderrechte-eine-geschlossene-ausstellung/
LOCATION:Berufliche Schule des Kreises Stormarn\, Schanzenbarg 2\, Bad Oldesloe\, 23843
END:VEVENT
BEGIN:VEVENT
DTSTART;TZID=Europe/Berlin:20220915T110000
DTEND;TZID=Europe/Berlin:20220923T180000
DTSTAMP:20260423T114557
CREATED:20220825T122041Z
LAST-MODIFIED:20220825T122041Z
UID:3070-1663239600-1663956000@stormarner-kindertage.de
SUMMARY:Kapla-Steine-Bauaktion
DESCRIPTION:Es warten tausende Kapla-Steine auf euch! Kommt während der Öffnungszeiten der Bibliothek vorbei\, baut und lasst eurer Kreativität spielend freien Lauf. Ob allein oder gemeinsam mit euren Freund*innen. Wir freuen uns auf Euch! Räumliches Denken und kreative Vorstellungskraft sind zwei wichtige Fähigkeiten. Die Holzbausteine von Kapla helfen den Kindern\, diese wichtigen Fähigkeiten zu entwickeln.
URL:https://stormarner-kindertage.de/veranstaltung/kapla-steine-bauaktion/
LOCATION:Stadtbibliothek Bargteheide\, Am Markt 4\, Bargteheide\, 22941
ORGANIZER;CN="Stadtbibliothek Bargteheide":MAILTO:wengorz@bargteheide.de
END:VEVENT
BEGIN:VEVENT
DTSTART;TZID=Europe/Berlin:20220921T090000
DTEND;TZID=Europe/Berlin:20220921T130000
DTSTAMP:20260423T114557
CREATED:20220819T091852Z
LAST-MODIFIED:20220826T091157Z
UID:3000-1663750800-1663765200@stormarner-kindertage.de
SUMMARY:Fragen zum Familienleben oder Ehrenamt?
DESCRIPTION:Die Beratungsstelle des Kinderschutzbundes Kreisverband Stormarn e.V. schlägt ihre Zelte vor der Accent Apotheke in Ahrensburg auf. \nBesuchen Sie uns zu Themen rund um die Familie oder bei Interesse an einem Ehrenamt an unserem Stand. \nWir freuen uns auf Sie. \n 
URL:https://stormarner-kindertage.de/veranstaltung/kinderschutzstelle-des-kinderschutzbundes-kreisverband-stormarn-e-v-auf-dem-ahrensburger-wochenmarkt/
LOCATION:Accent Apotheke\, Große Straße 30\, Ahrensburg\, 22926\, Deutschland
ORGANIZER;CN="Kinderschutzstelle Kinderhaus BLAUER ELEFANT Bargteheide":MAILTO:a.mueller-ahrens@dksb-stormarn.de
END:VEVENT
BEGIN:VEVENT
DTSTART;TZID=Europe/Berlin:20220921T100000
DTEND;TZID=Europe/Berlin:20220921T120000
DTSTAMP:20260423T114557
CREATED:20220616T091449Z
LAST-MODIFIED:20220616T091449Z
UID:2688-1663754400-1663761600@stormarner-kindertage.de
SUMMARY:Mit Didi Dachs in den Wald
DESCRIPTION:Mit dem frechen Didi Dachs geht es in den Wald. Didi hat spannende Geschichten dabei. Die Kinder erfahren Einiges über den Wald und seine Bewohner. Coole Spiele sorgen für Spaß und Bewegung. Und am Ende gibt es sogar eine kleine Überraschung. Interessierte (Kita oder GS 1./2. Klasse) melden sich bitte per Mail Frauke.Poehlsen@naturerleben-stormarn.de. an.
URL:https://stormarner-kindertage.de/veranstaltung/mit-didi-dachs-in-den-wald/
ORGANIZER;CN="Naturerleben Stormarn%2C Frauke P%C3%B6hlsen":MAILTO:Frauke.Poehlsen@naturerleben-stormarn.de
END:VEVENT
BEGIN:VEVENT
DTSTART;TZID=Europe/Berlin:20220921T110000
DTEND;TZID=Europe/Berlin:20220921T170000
DTSTAMP:20260423T114557
CREATED:20220901T134547Z
LAST-MODIFIED:20220901T134547Z
UID:3123-1663758000-1663779600@stormarner-kindertage.de
SUMMARY:Die Frühen Hilfen sind da!
DESCRIPTION:Mobiles Angebot der Frühen Hilfen\, der Elternlotsen\, des Beratungsbus des DKSB und dem Familienzentrum Reinfeld/ Nordstormarn. Spiele und Beratungsangebote für Familien mit Babys und Kleinkindern.
URL:https://stormarner-kindertage.de/veranstaltung/die-fruehen-hilfen-sind-da-2/
LOCATION:Kita Lütje Lüüd\, Am Sportplatz 2a\, Lütjensee\, 22952
ORGANIZER;CN="Kreis Stormarn%2C Netzwerkkoordinator Fr%C3%BChe Hilfen":MAILTO:l.straeter@kreis-stormarn.de
END:VEVENT
BEGIN:VEVENT
DTSTART;TZID=Europe/Berlin:20220921T140000
DTEND;TZID=Europe/Berlin:20220921T160000
DTSTAMP:20260423T114557
CREATED:20220826T075939Z
LAST-MODIFIED:20220826T075939Z
UID:3080-1663768800-1663776000@stormarner-kindertage.de
SUMMARY:Workshop für Kinder (5-8 Jahre): „ScratchJr“
DESCRIPTION:Handyspiele\, YouTube gucken\, Medienzeiten. Alles Themen\, die schon Kita- und Grundschul-Kinder kennen. Auf den ersten Blick können digitale Inhalte lediglich konsumiert werden. Das stimmt zum Glück nicht (mehr)! Es gibt tolle Möglichkeiten schon für junge Kinder selbst kreativ zu werden – zum Beispiel mit ScratchJr. ScratchJr ist eine Tablet-Applikation\, die bereits Kindern ab 5 Jahren die Möglichkeit bietet erste Programmierschritte zu gehen. Eine digitale Katze kann mit Hilfe von einfachen „Wenn-Dann-Formeln“ zum Leben erweckt werden. Der Fantasie ist dabei kaum eine Grenze gesetzt. Geräusche können selbst aufgenommen\, Hintergrundmotive gemalt und eigene Geschichten und Abendteuer kreiert werden. ScratchJr basiert auf der kinderorientierten\, visuellen Programmiersprache von „Scratch“. Für die Benutzung ist schreiben und lesen keine Voraussetzung. Ziel des Workshops ist es Kindern ab 5 Jahren das Programmieren spielerisch näher zu bringen. Dabei werden das logische Denken\, die Problemlösekompetenz sowie die Kreativität der jungen Programmierer*innen gefordert und gefördert.
URL:https://stormarner-kindertage.de/veranstaltung/workshop-fuer-kinder-5-8-jahre-scratchjr/
LOCATION:Mehrgenerationenhaus Familienzentrum OASE\, Ratzeburger Straße 20\, Bad Oldesloe\, 23843
END:VEVENT
BEGIN:VEVENT
DTSTART;TZID=Europe/Berlin:20220921T150000
DTEND;TZID=Europe/Berlin:20220921T163000
DTSTAMP:20260423T114557
CREATED:20220718T132717Z
LAST-MODIFIED:20220718T132717Z
UID:2878-1663772400-1663777800@stormarner-kindertage.de
SUMMARY:Kinderyoga
DESCRIPTION:Mit Spiel und Spaß tauchen wir gemeinsam in die zauberhafte Welt des Yoga ein. Es wird gespielt\, gebastelt und entspannt. Vorerfahrung im Yoga ist nicht nötig. Das Angebot richtet sich an Kinder von 4-10 Jahre\, die sich zutrauen\, ohne Eltern teilzunehmen.
URL:https://stormarner-kindertage.de/veranstaltung/kinderyoga/
LOCATION:Kids & Yoga / Nina Bossen-Mahlke\, Am Markt 3\, Bargteheide\, 22941
ORGANIZER;CN="Kids & Yoga / Nina Bossen-Mahlke":MAILTO:kids-and-yoga@gmx.de
END:VEVENT
BEGIN:VEVENT
DTSTART;TZID=Europe/Berlin:20220921T150000
DTEND;TZID=Europe/Berlin:20220921T163000
DTSTAMP:20260423T114557
CREATED:20220824T092240Z
LAST-MODIFIED:20220824T092240Z
UID:3039-1663772400-1663777800@stormarner-kindertage.de
SUMMARY:Gesundes Kochen
DESCRIPTION:Schon länger wünschen sich die Schulkinder aus dem KINDERHAUS BLAUER ELEFANT in Bargteheide\, gemeinsam zu kochen. Diesen Wunsch verwirklichen wir gerne im Rahmen der Stormarner Kindertage. Neben dem gemeinsamen Kochen setzten wir uns mit den Themen gesundes Essen und regionalen Produkten auseinander.
URL:https://stormarner-kindertage.de/veranstaltung/gesundes-kochen/
LOCATION:Kinderhaus BLAUER ELEFANT Bargteheide\, Lindenstraße 4\, Bargteheide\, 22941
END:VEVENT
BEGIN:VEVENT
DTSTART;TZID=Europe/Berlin:20220921T150000
DTEND;TZID=Europe/Berlin:20220921T163000
DTSTAMP:20260423T114557
CREATED:20220831T075305Z
LAST-MODIFIED:20220831T075305Z
UID:3097-1663772400-1663777800@stormarner-kindertage.de
SUMMARY:Kinder haben ein Recht auf ihre Meinung!
DESCRIPTION:Ein neues Kunstwerk für den Kinderrechtepark ist da und soll heute enthüllt werden! Das wollen wir feiern\, indem wir spielend und malend Unfug machen!
URL:https://stormarner-kindertage.de/veranstaltung/kinder-haben-ein-recht-auf-ihre-meinung/
LOCATION:Kinderrechte-Park\, Am Bürgerpark\, Bad Oldesloe\, 23843
END:VEVENT
BEGIN:VEVENT
DTSTART;TZID=Europe/Berlin:20220921T150000
DTEND;TZID=Europe/Berlin:20220921T163000
DTSTAMP:20260423T114558
CREATED:20220907T103954Z
LAST-MODIFIED:20220907T103954Z
UID:3179-1663772400-1663777800@stormarner-kindertage.de
SUMMARY:Kinder haben ein Recht auf ihre Meinung!
DESCRIPTION:Ein neues Kunstwerk für den Kinderrechtepark ist da und soll heute enthüllt werden! Das wollen wir feiern\, indem wir spielend und malend Unfug machen!
URL:https://stormarner-kindertage.de/veranstaltung/kinder-haben-ein-recht-auf-ihre-meinung-2/
LOCATION:Kinderrechte-Park\, Am Bürgerpark\, Bad Oldesloe\, 23843
END:VEVENT
BEGIN:VEVENT
DTSTART;TZID=Europe/Berlin:20220921T150000
DTEND;TZID=Europe/Berlin:20220921T180000
DTSTAMP:20260423T114558
CREATED:20220701T101026Z
LAST-MODIFIED:20220701T101026Z
UID:2792-1663772400-1663783200@stormarner-kindertage.de
SUMMARY:Sommerfest im Miniclub
DESCRIPTION:Unser jährliches Sommerfest für Groß und Klein lädt ein zum Spielen\, Basteln\, Kinderschminken und vielen bunten Aktionen.
URL:https://stormarner-kindertage.de/veranstaltung/sommerfest-im-miniclub/
LOCATION:Miniclub Glinde\, Sönke-Nissen-Allee 2a - Hintereingang\, Glinde\, 21509
ORGANIZER;CN="Miniclub Glinde":MAILTO:info@miniclub-glinde.de
END:VEVENT
BEGIN:VEVENT
DTSTART;TZID=Europe/Berlin:20220921T153000
DTEND;TZID=Europe/Berlin:20220921T163000
DTSTAMP:20260423T114558
CREATED:20220623T074836Z
LAST-MODIFIED:20220623T082406Z
UID:2726-1663774200-1663777800@stormarner-kindertage.de
SUMMARY:Spielplatzrallye - entdecke Oldesloer Spielplätze!
DESCRIPTION:Hol dir einen Stempel auf dem Spielplatz! Sammle weitere 3 Stempel auf 3 anderen Spielplätzen! Wenn du 4 Stempel beisammen hast\, wartet eine süße-kalte Überraschung in der Oase auf dich!
URL:https://stormarner-kindertage.de/veranstaltung/spielplatzrallye-entdecke-oldesloer-spielplaetze-5/
LOCATION:Spielplatz Wolkenweher Dorfstraße\, Wolkenweher Dorfstraße (West IV)\, Bad Oldesloe\, 23843
ORGANIZER;CN="Mehrgenerationenhaus Familienzentrum Oase (1)":MAILTO:g.scholze@oase-oldesloe.de
END:VEVENT
BEGIN:VEVENT
DTSTART;TZID=Europe/Berlin:20220921T153000
DTEND;TZID=Europe/Berlin:20220921T163000
DTSTAMP:20260423T114558
CREATED:20220831T080254Z
LAST-MODIFIED:20220831T080254Z
UID:3103-1663774200-1663777800@stormarner-kindertage.de
SUMMARY:Kinder-Rechtivity
DESCRIPTION:Wir spielen Kinder-Rechtivity! Im Rahmen der Gruppenzeit der Gruppe 29 spielen wir ein Activity-Spiel\, bei dem es um Kinderrechte geht. Die Begriffe müssen gezeichnet\, beschrieben oder pantomomisch dargestellt werden.
URL:https://stormarner-kindertage.de/veranstaltung/kinder-rechtivity/
LOCATION:Gruppe 29\, Lübecker Straße 38\, Bargteheide\, 22941\, Deutschland
END:VEVENT
BEGIN:VEVENT
DTSTART;TZID=Europe/Berlin:20220921T153000
DTEND;TZID=Europe/Berlin:20220921T173000
DTSTAMP:20260423T114558
CREATED:20220817T135039Z
LAST-MODIFIED:20220819T075245Z
UID:2949-1663774200-1663781400@stormarner-kindertage.de
SUMMARY:Kinderrechte-Tour mit dem Elefanto-Spielmobil auf dem Spielplatz Weidenkamp in Bad Oldesloe
DESCRIPTION:Heute könnt ihr in der Spielstraße mit Bobby Cars eure Fahrkünste testen. Außerdem könnt ihr an einer Pinnwand eure Wünsche für den Spielplatz eintragen\, was beim letzten Spielmobil-Einsatz am 5.10.22 Besonderes aus dem Spielmobil-Angebot dabei sein soll. \nEs wird eine kleine Kinderrechte- Zaubershow mit unserem Gaukler Hektor geben. Heute sind zwei Kinderrechte ganz besonders wichtig: das Recht auf Spiel und Freizeit und das Recht auf freie Meinungsäußerung.
URL:https://stormarner-kindertage.de/veranstaltung/spielplatz-aktion-mit-dem-elefanto-spielmobil-in-bad-oldesloe/
LOCATION:Spielplatz Weidenkamp\, Bad Oldesloe\, 23843
END:VEVENT
BEGIN:VEVENT
DTSTART;TZID=Europe/Berlin:20220921T160000
DTEND;TZID=Europe/Berlin:20220921T180000
DTSTAMP:20260423T114558
CREATED:20220623T080018Z
LAST-MODIFIED:20220623T082342Z
UID:2730-1663776000-1663783200@stormarner-kindertage.de
SUMMARY:Spielplatzrallye - entdecke Oldesloer Spielplätze!
DESCRIPTION:Hol dir einen Stempel auf dem Spielplatz! Sammle weitere 3 Stempel auf 3 anderen Spielplätzen! Wenn du 4 Stempel beisammen hast\, wartet eine süße-kalte Überraschung in der Oase auf dich!
URL:https://stormarner-kindertage.de/veranstaltung/spielplatzrallye-entdecke-oldesloer-spielplaetze-7/
LOCATION:Spielplatz Dracheninsel\, Hebbelstraße/Rudolf-Kinau-Weg\, Bad Oldesloe\, 23843
ORGANIZER;CN="Mehrgenerationenhaus Familienzentrum Oase (1)":MAILTO:g.scholze@oase-oldesloe.de
END:VEVENT
BEGIN:VEVENT
DTSTART;TZID=Europe/Berlin:20220921T160000
DTEND;TZID=Europe/Berlin:20220921T183000
DTSTAMP:20260423T114558
CREATED:20220907T095828Z
LAST-MODIFIED:20220907T095828Z
UID:3174-1663776000-1663785000@stormarner-kindertage.de
SUMMARY:Tag des offenen Treffs Siek
DESCRIPTION:An diesem Nachmittag kann der Jugendtreff in Siek mit seinem Gelände kennengelernt und erkundet werden. Beim Fußballtor mit Geschwindigkeitsmessung gibt es die Möglichkeit die eigenen Fußballfähigkeiten auszuprobieren und gegen eine kleine Gebühr werden leckere Cocktails von der Jims Bar serviert. Kommt vorbei!
URL:https://stormarner-kindertage.de/veranstaltung/tag-des-offenen-treffs-siek/
LOCATION:Jugendtreff Siek\, an der Mehrzweckhalle\, Hinterm Dorf 2a\, Siek\, 22962
ORGANIZER;CN="Kreisjugendring Stormarn e.V. und Kreis Stormarn":MAILTO:anna.schmalowski@kjr-stormarn.de
END:VEVENT
BEGIN:VEVENT
DTSTART;TZID=Europe/Berlin:20220921T183000
DTEND;TZID=Europe/Berlin:20220921T200000
DTSTAMP:20260423T114558
CREATED:20220826T080448Z
LAST-MODIFIED:20220826T080448Z
UID:3082-1663785000-1663790400@stormarner-kindertage.de
SUMMARY:Elternabend zum Thema: „Schönheit & Selbstdarstellung in Social Media“
DESCRIPTION:Dieser Elternabend richtet sich an Eltern\, dessen Kinder sich mit den gängigen Social Media Apps beschäftigen\, Influencer*innen folgen und gerne mal Bilder und Videos posten wollen – aber natürlich auch an alle die sich für dieses Thema interessieren. An diesem Abend beschäftigen wir uns überwiegend mit Instagram\, TikTok und Co.\, erklären die Mechanismen hinter den Apps und versuchen zu erläutern\, warum sie eine solche Anziehungskraft und die Kinder und Jugendlichen so viel Spaß an ihnen haben. Im Fokus stehen Schönheitsideale und Körperbilder\, Filter und Bildbearbeitung.
URL:https://stormarner-kindertage.de/veranstaltung/elternabend-zum-thema-schoenheit-selbstdarstellung-in-social-media/
LOCATION:Gymnasium Trittau\, Heinrich-Hertz-Straße 7\, Trittau\, 22946\, Deutschland
END:VEVENT
END:VCALENDAR