BEGIN:VCALENDAR
VERSION:2.0
PRODID:-//Stormarner Kindertage - ECPv6.11.2.1//NONSGML v1.0//EN
CALSCALE:GREGORIAN
METHOD:PUBLISH
X-ORIGINAL-URL:https://stormarner-kindertage.de
X-WR-CALDESC:Veranstaltungen für Stormarner Kindertage
REFRESH-INTERVAL;VALUE=DURATION:PT1H
X-Robots-Tag:noindex
X-PUBLISHED-TTL:PT1H
BEGIN:VTIMEZONE
TZID:Europe/Berlin
BEGIN:DAYLIGHT
TZOFFSETFROM:+0100
TZOFFSETTO:+0200
TZNAME:CEST
DTSTART:20210328T010000
END:DAYLIGHT
BEGIN:STANDARD
TZOFFSETFROM:+0200
TZOFFSETTO:+0100
TZNAME:CET
DTSTART:20211031T010000
END:STANDARD
END:VTIMEZONE
BEGIN:VEVENT
DTSTART;TZID=Europe/Berlin:20210910T110000
DTEND;TZID=Europe/Berlin:20210926T180000
DTSTAMP:20260421T114854
CREATED:20210827T122523Z
LAST-MODIFIED:20210827T122523Z
UID:2410-1631271600-1632679200@stormarner-kindertage.de
SUMMARY:Kinderrechte Medienausstellung
DESCRIPTION:Wir stellen eine Vielzahl von Büchern und anderen Medien rund um das Thema Kinderrechte aus. Alle Altersgruppen können sich informieren und die Medien ausleihen. Wer Zeit und Lust hat\, kann gemeinsam das kimemo spielen – eine Bilderpaarsuche zu den Kinderrechten. Außerdem liegen Ausmalbilder und kostenfreies Informationsmaterial zum Mitnehmen bereit. \n 
URL:https://stormarner-kindertage.de/veranstaltung/kinderrechte-medienausstellung/
LOCATION:Stadtbibliothek Bargteheide\, Am Markt 4\, Bargteheide\, 22941
ORGANIZER;CN="Stadtbibliothek Bargteheide":MAILTO:wengorz@bargteheide.de
END:VEVENT
BEGIN:VEVENT
DTSTART;TZID=Europe/Berlin:20210913T080000
DTEND;TZID=Europe/Berlin:20210925T170000
DTSTAMP:20260421T114854
CREATED:20210901T150709Z
LAST-MODIFIED:20210901T150709Z
UID:2483-1631520000-1632589200@stormarner-kindertage.de
SUMMARY:Kostenlose Probestunde am Wunschinstrument
DESCRIPTION:Kinder ab 7 Jahren haben die Möglichkeit\, bei einer kostenlosen Probestunde ihr Wunschinstrument auszuprobieren.
URL:https://stormarner-kindertage.de/veranstaltung/kostenlose-probestunde-am-wunschinstrument/
LOCATION:Musikschule Thomas Lass\, Wurth 7\, Bargteheide\, 22941
ORGANIZER;CN="Musikschule Thomas Lass":MAILTO:infomail@lass-musik.de
END:VEVENT
BEGIN:VEVENT
DTSTART;TZID=Europe/Berlin:20210913T080000
DTEND;TZID=Europe/Berlin:20210926T170000
DTSTAMP:20260421T114854
CREATED:20210820T110847Z
LAST-MODIFIED:20210820T110847Z
UID:2374-1631520000-1632675600@stormarner-kindertage.de
SUMMARY:Kinder\, ihr habt ein Recht auf Bildung!
DESCRIPTION:Zu den Stormarner Kindertagen laden wir alle Glinder KiTas mit ihren Vorschüler*innen zum Schnuppertag ein. Gemeinsam mit unseren Lesepat*innen wollen wir mit den Kindern das Bilderbuchkino entdecken und Geschichten zum Leben erwecken! Wir bitten um Anmeldung. Bei Fragen oder zur Terminvereinbarung melden Sie sich gerne unter Telefon 040/71002-610
URL:https://stormarner-kindertage.de/veranstaltung/kinder-ihr-habt-ein-recht-auf-bildung/
LOCATION:Stadtbücherei Glinde\, Markt 2\, Glinde\, 21509
END:VEVENT
BEGIN:VEVENT
DTSTART;TZID=Europe/Berlin:20210913T080000
DTEND;TZID=Europe/Berlin:20210926T170000
DTSTAMP:20260421T114854
CREATED:20210824T132536Z
LAST-MODIFIED:20210824T132536Z
UID:2381-1631520000-1632675600@stormarner-kindertage.de
SUMMARY:"Von der Seele schreiben" - Mit Gedichten oder Texten Gefühle und Gedanken ausdrücken
DESCRIPTION:Schreiben entlastet die Seele\, weil sich Sorgen nicht mehr im Kopf\, sondern auf dem Papier sammeln. Schreiben macht zudem Gefühle bewusst und hilft dabei\, Lebenskrisen zu bewältigen. Auch die Kreativität wird gefördert\, weil sich durch das Schreiben die Zusammenarbeit der beiden Gehirnhälften verbessert. Gehörst auch Du zu den Menschen\, die ihre Gefühle gerne beim Schreiben ausdrücken? Dann schick mir Deinen Text an info@calamnius-beunink.de. Ich bedanke mich bei dem/der 7. Schreiber*in mit einer kostenfreien Coachingstunde. Viel Glück!
URL:https://stormarner-kindertage.de/veranstaltung/von-der-seele-schreiben-mit-gedichten-oder-texten-gefuehle-und-gedanken-ausdruecken/
LOCATION:Digital
END:VEVENT
BEGIN:VEVENT
DTSTART;TZID=Europe/Berlin:20210913T120000
DTEND;TZID=Europe/Berlin:20210926T160000
DTSTAMP:20260421T114854
CREATED:20210819T112852Z
LAST-MODIFIED:20210819T112852Z
UID:2349-1631534400-1632672000@stormarner-kindertage.de
SUMMARY:Kinderrechte-Steine entwerfen und auslegen
DESCRIPTION:Die Kinder der Ganztagsbetreuung der COS und ENS haben die Möglichkeit\, ihr persönlich wichtigstes Kinderrecht schriftlich und bildlich auf einen Stein zu verewiegen. Die Steine können mit nach Hause genommen und vor der Haustür und im Garten ausgelegt werden.
URL:https://stormarner-kindertage.de/veranstaltung/kinderrechte-steine-entwerfen-und-auslegen/
LOCATION:Emil-Nolde-Schule Bargteheide\, Am Schulzentrum 11a\, Bargteheide\, 22941
ORGANIZER;CN="Jugendarbeitsteam der Stadt Bargteheide":MAILTO:koeppen@bargteheide-jat.de
END:VEVENT
BEGIN:VEVENT
DTSTART;TZID=Europe/Berlin:20210913T120000
DTEND;TZID=Europe/Berlin:20210926T160000
DTSTAMP:20260421T114854
CREATED:20210819T113129Z
LAST-MODIFIED:20210819T113129Z
UID:2351-1631534400-1632672000@stormarner-kindertage.de
SUMMARY:Kinderrechte-Steine entwerfen und auslegen
DESCRIPTION:Die Kinder der Ganztagsbetreuung der COS und ENS haben die Möglichkeit ihr persönlich wichtigstes Kinderrecht schriftlich und bildlich auf einen Stein zu verewiegen. Die Steine können mit nach Haus genommen und vor der Haustür und im Garten ausgelegt werden.
URL:https://stormarner-kindertage.de/veranstaltung/kinderrechte-steine-entwerfen-und-auslegen-2/
LOCATION:Carl-Orff-Schule\, Segeberger Straße 1\, Bargteheide\, 22941
ORGANIZER;CN="Jugendarbeitsteam der Stadt Bargteheide":MAILTO:koeppen@bargteheide-jat.de
END:VEVENT
BEGIN:VEVENT
DTSTART;TZID=Europe/Berlin:20210913T150000
DTEND;TZID=Europe/Berlin:20210926T170000
DTSTAMP:20260421T114854
CREATED:20210624T124058Z
LAST-MODIFIED:20210624T124402Z
UID:2172-1631545200-1632675600@stormarner-kindertage.de
SUMMARY:Sprich es aus! Kinderinterviews zu den Kinderrechten
DESCRIPTION:Während der Stormarner Kindertage werden Kinder und Jugendliche zu ihren Rechten interviewt und als Audio aufgenommen. Alles\, was euch zu euren Rechten einfällt\, darf gesagt werden! Wir nehmen die Interviews mit einem Diktiergerät auf und sammeln eure Meinung. Im Anschluss an die Stormarner Kindertage werden eure Aussagen visualisiert und beispielsweise im Rathaus ausgehängt.
URL:https://stormarner-kindertage.de/veranstaltung/sprich-es-aus-kinderinterviews-zu-den-kinderrechten/
LOCATION:Kinderinterviews in ganz Oststeinbek
ORGANIZER;CN="Kinder- und Jugendarbeit Oststeinbek":MAILTO:kontakt@jugendzentrum-oststeinbek.de
END:VEVENT
BEGIN:VEVENT
DTSTART;TZID=Europe/Berlin:20210925T100000
DTEND;TZID=Europe/Berlin:20210925T150000
DTSTAMP:20260421T114854
CREATED:20210708T103945Z
LAST-MODIFIED:20210708T103945Z
UID:2240-1632564000-1632582000@stormarner-kindertage.de
SUMMARY:Tag der offenen Tür Freie Waldorfschule Bargteheide
DESCRIPTION:Am 25.09.2021 findet der Tag der offenen Tür der Freien Waldorfschule Bargteheide statt. Im Zuge dessen finden immer verschiedene Bastelangebote für die Kinder statt. Dieses Jahr wollen wir gemeinsam Trittsteine anfertigen und dekorieren und Steine bemalen. Außerdem kann natürlich die Schule besichtigt werden. Die Klassenräume stehen für Interessierte offen und Lehrer und Eltern stehen für Gespräche und Informationen zur Verfügung.
URL:https://stormarner-kindertage.de/veranstaltung/tag-der-offenen-tuer-freie-waldorfschule-bargteheide/
LOCATION:Freie Waldorfschule Bargteheide\, Alte Landstraße 89f\, Bargteheide\, 22941
END:VEVENT
BEGIN:VEVENT
DTSTART;TZID=Europe/Berlin:20210925T100000
DTEND;TZID=Europe/Berlin:20210925T160000
DTSTAMP:20260421T114854
CREATED:20210913T111647Z
LAST-MODIFIED:20210913T112156Z
UID:2572-1632564000-1632585600@stormarner-kindertage.de
SUMMARY:Kinderschutztag
DESCRIPTION:Dieser Tag steht bei uns ganz im Zeichen der Kinder: \nUm 10.00 Uhr startet die Ausstellung der Kinderrechte\, zusätzlich gibt es einem Infostand über den Kinderschutz in der TSV Reinbek. \nUm 11.00 Uhr beginnt das Open-Air Konzert mit dem Liedermacher Florian Müller; Florian verpackt die Kinderrechte in seinen Liedertexten. Nach dem Konzert gibt es eine Stunde Sport mit der Vereinsjugend. \nUm 13.00 Uhr beginnt dann das Seminar über das „Ampelprojekt“. Das Seminar richtet sich am 10 – 17 jährige Kinder und Jugendliche. Bei dem Ampelprojekt geht es um das Verhalten von Erwachsenen\, insbesondere TrainerInnen und BetreuerInnen den Kindern und Jugendlichen gegenüber. Dabei müssen die Kinder und Jugendlichen sich selbst darüber klar werden\, wo ihre Toleranzgrenzen liegen. Die Farbe grün steht dabei für Verhalten das in Ordnung ist. Gelb steht für grenzwertiges und Rot für unerwünschtes Verhalten. Diese Ampel ist die Basis für den Handlungsleitfaden der TSV Reinbek und bindend für alle Übungsleiter.In manchen Fällen sind Kinder toleranter als Erwachsene glauben\, auf anderen Gebieten viel empfindlicher als wir denken.
URL:https://stormarner-kindertage.de/veranstaltung/kinderschutztag/
LOCATION:TSV Reinbek\, Theodor-Storm-Straße 22\, Reinbek\, 21465
ORGANIZER;CN="TSV Reinbek":MAILTO:Kinderschutz@tsv-reinbek.de
END:VEVENT
BEGIN:VEVENT
DTSTART;TZID=Europe/Berlin:20210925T100000
DTEND;TZID=Europe/Berlin:20210925T180000
DTSTAMP:20260421T114854
CREATED:20210716T103431Z
LAST-MODIFIED:20210716T103431Z
UID:2297-1632564000-1632592800@stormarner-kindertage.de
SUMMARY:Kinderfest rund um die JUZE
DESCRIPTION:Die JUZE und viele andere Anbieter*innen laden zu einem bunten Kinderfest auf dem Gelände rund um die JUZE und dem Kinderrechtepark ein. Es werden Workshops\, Aktionen\, Spiel und gemeinsam mit dem KuB ein ein vielfältiges Bühnenprogramm geboten. Weiter Programminformation erfolgen in Kürze auf: https://www.badoldesloe.de/B%C3%BCrger/Kinder-Jugend-und-Familie/
URL:https://stormarner-kindertage.de/veranstaltung/kinderfest-rund-um-die-juze/
LOCATION:Jugendfreizeitstätte Stadt Bad Oldesloe\, Am Bürgerpark 2\, Bad Oldesloe\, 23843
END:VEVENT
BEGIN:VEVENT
DTSTART;TZID=Europe/Berlin:20210925T140000
DTEND;TZID=Europe/Berlin:20210925T170000
DTSTAMP:20260421T114854
CREATED:20210611T073506Z
LAST-MODIFIED:20210611T073506Z
UID:2135-1632578400-1632589200@stormarner-kindertage.de
SUMMARY:Zarpener Kindertag
DESCRIPTION:Spiel und Spaß für die Kinder aus Zarpen und den zugehörigen Umlandgemeinden\, die dort wohnen\, in die Kita oder zur Schule gehen. \nVeranstaltet wird der Zarpener Kindertag von Schulen\, Kindergärten\, der Kirche und dem TSV Zarpen. \nAnsprechpartnerin ist T. Schiprowski\, Tel.: 04533 – 1445
URL:https://stormarner-kindertage.de/veranstaltung/zarpener-kindertag/
LOCATION:Zarpen\, 23619
ORGANIZER;CN="Alle Zarpener Organisationen":MAILTO:dgsas.zarpen@schule.landsh.de
END:VEVENT
END:VCALENDAR