BEGIN:VCALENDAR
VERSION:2.0
PRODID:-//Stormarner Kindertage - ECPv6.11.2.1//NONSGML v1.0//EN
CALSCALE:GREGORIAN
METHOD:PUBLISH
X-ORIGINAL-URL:https://stormarner-kindertage.de
X-WR-CALDESC:Veranstaltungen für Stormarner Kindertage
REFRESH-INTERVAL;VALUE=DURATION:PT1H
X-Robots-Tag:noindex
X-PUBLISHED-TTL:PT1H
BEGIN:VTIMEZONE
TZID:Europe/Berlin
BEGIN:DAYLIGHT
TZOFFSETFROM:+0100
TZOFFSETTO:+0200
TZNAME:CEST
DTSTART:20210328T010000
END:DAYLIGHT
BEGIN:STANDARD
TZOFFSETFROM:+0200
TZOFFSETTO:+0100
TZNAME:CET
DTSTART:20211031T010000
END:STANDARD
END:VTIMEZONE
BEGIN:VEVENT
DTSTART;TZID=Europe/Berlin:20210910T110000
DTEND;TZID=Europe/Berlin:20210926T180000
DTSTAMP:20260421T114852
CREATED:20210827T122523Z
LAST-MODIFIED:20210827T122523Z
UID:2410-1631271600-1632679200@stormarner-kindertage.de
SUMMARY:Kinderrechte Medienausstellung
DESCRIPTION:Wir stellen eine Vielzahl von Büchern und anderen Medien rund um das Thema Kinderrechte aus. Alle Altersgruppen können sich informieren und die Medien ausleihen. Wer Zeit und Lust hat\, kann gemeinsam das kimemo spielen – eine Bilderpaarsuche zu den Kinderrechten. Außerdem liegen Ausmalbilder und kostenfreies Informationsmaterial zum Mitnehmen bereit. \n 
URL:https://stormarner-kindertage.de/veranstaltung/kinderrechte-medienausstellung/
LOCATION:Stadtbibliothek Bargteheide\, Am Markt 4\, Bargteheide\, 22941
ORGANIZER;CN="Stadtbibliothek Bargteheide":MAILTO:wengorz@bargteheide.de
END:VEVENT
BEGIN:VEVENT
DTSTART;TZID=Europe/Berlin:20210913T080000
DTEND;TZID=Europe/Berlin:20210923T170000
DTSTAMP:20260421T114852
CREATED:20210903T082034Z
LAST-MODIFIED:20210903T082034Z
UID:2533-1631520000-1632416400@stormarner-kindertage.de
SUMMARY:Jedes Kind hat ein Recht auf eine schicke Frisur
DESCRIPTION:Im Rahmen der Stormarner Kindertage unterstützen viele Bargteheider Friseure die Aktion „Lieblingsfrisur“. Liebe Kinder bis 12 Jahren\, malt Eure Lieblingsfrisur und gebt dieses Bild mit Namen und Telefonnummer bis zum 23. September 2021 bei Optiker Scheel (Rathausstr. 7) ab\, um an der Verlosung für einen kostenlosen Kinderhaarschnitt teilzunehmen. Aus allen Einsendungen werden die Gewinner gezogen und dann benachrichtigt. (Bitte beachten: keine Auszahlung möglich und nur für Kinderhaarschnitte. Die Daten werden laut DSGVO vertraulich behandelt und nicht weitergegeben).
URL:https://stormarner-kindertage.de/veranstaltung/jedes-kind-hat-ein-recht-auf-eine-schicke-frisur/
LOCATION:Abgabe bei Optiker Scheel\, Rathausstraße 7\, Bargteheide\, 22941
END:VEVENT
BEGIN:VEVENT
DTSTART;TZID=Europe/Berlin:20210913T080000
DTEND;TZID=Europe/Berlin:20210925T170000
DTSTAMP:20260421T114852
CREATED:20210901T150709Z
LAST-MODIFIED:20210901T150709Z
UID:2483-1631520000-1632589200@stormarner-kindertage.de
SUMMARY:Kostenlose Probestunde am Wunschinstrument
DESCRIPTION:Kinder ab 7 Jahren haben die Möglichkeit\, bei einer kostenlosen Probestunde ihr Wunschinstrument auszuprobieren.
URL:https://stormarner-kindertage.de/veranstaltung/kostenlose-probestunde-am-wunschinstrument/
LOCATION:Musikschule Thomas Lass\, Wurth 7\, Bargteheide\, 22941
ORGANIZER;CN="Musikschule Thomas Lass":MAILTO:infomail@lass-musik.de
END:VEVENT
BEGIN:VEVENT
DTSTART;TZID=Europe/Berlin:20210913T080000
DTEND;TZID=Europe/Berlin:20210926T170000
DTSTAMP:20260421T114852
CREATED:20210820T110847Z
LAST-MODIFIED:20210820T110847Z
UID:2374-1631520000-1632675600@stormarner-kindertage.de
SUMMARY:Kinder\, ihr habt ein Recht auf Bildung!
DESCRIPTION:Zu den Stormarner Kindertagen laden wir alle Glinder KiTas mit ihren Vorschüler*innen zum Schnuppertag ein. Gemeinsam mit unseren Lesepat*innen wollen wir mit den Kindern das Bilderbuchkino entdecken und Geschichten zum Leben erwecken! Wir bitten um Anmeldung. Bei Fragen oder zur Terminvereinbarung melden Sie sich gerne unter Telefon 040/71002-610
URL:https://stormarner-kindertage.de/veranstaltung/kinder-ihr-habt-ein-recht-auf-bildung/
LOCATION:Stadtbücherei Glinde\, Markt 2\, Glinde\, 21509
END:VEVENT
BEGIN:VEVENT
DTSTART;TZID=Europe/Berlin:20210913T080000
DTEND;TZID=Europe/Berlin:20210926T170000
DTSTAMP:20260421T114852
CREATED:20210824T132536Z
LAST-MODIFIED:20210824T132536Z
UID:2381-1631520000-1632675600@stormarner-kindertage.de
SUMMARY:"Von der Seele schreiben" - Mit Gedichten oder Texten Gefühle und Gedanken ausdrücken
DESCRIPTION:Schreiben entlastet die Seele\, weil sich Sorgen nicht mehr im Kopf\, sondern auf dem Papier sammeln. Schreiben macht zudem Gefühle bewusst und hilft dabei\, Lebenskrisen zu bewältigen. Auch die Kreativität wird gefördert\, weil sich durch das Schreiben die Zusammenarbeit der beiden Gehirnhälften verbessert. Gehörst auch Du zu den Menschen\, die ihre Gefühle gerne beim Schreiben ausdrücken? Dann schick mir Deinen Text an info@calamnius-beunink.de. Ich bedanke mich bei dem/der 7. Schreiber*in mit einer kostenfreien Coachingstunde. Viel Glück!
URL:https://stormarner-kindertage.de/veranstaltung/von-der-seele-schreiben-mit-gedichten-oder-texten-gefuehle-und-gedanken-ausdruecken/
LOCATION:Digital
END:VEVENT
BEGIN:VEVENT
DTSTART;TZID=Europe/Berlin:20210913T120000
DTEND;TZID=Europe/Berlin:20210926T160000
DTSTAMP:20260421T114852
CREATED:20210819T112852Z
LAST-MODIFIED:20210819T112852Z
UID:2349-1631534400-1632672000@stormarner-kindertage.de
SUMMARY:Kinderrechte-Steine entwerfen und auslegen
DESCRIPTION:Die Kinder der Ganztagsbetreuung der COS und ENS haben die Möglichkeit\, ihr persönlich wichtigstes Kinderrecht schriftlich und bildlich auf einen Stein zu verewiegen. Die Steine können mit nach Hause genommen und vor der Haustür und im Garten ausgelegt werden.
URL:https://stormarner-kindertage.de/veranstaltung/kinderrechte-steine-entwerfen-und-auslegen/
LOCATION:Emil-Nolde-Schule Bargteheide\, Am Schulzentrum 11a\, Bargteheide\, 22941
ORGANIZER;CN="Jugendarbeitsteam der Stadt Bargteheide":MAILTO:koeppen@bargteheide-jat.de
END:VEVENT
BEGIN:VEVENT
DTSTART;TZID=Europe/Berlin:20210913T120000
DTEND;TZID=Europe/Berlin:20210926T160000
DTSTAMP:20260421T114852
CREATED:20210819T113129Z
LAST-MODIFIED:20210819T113129Z
UID:2351-1631534400-1632672000@stormarner-kindertage.de
SUMMARY:Kinderrechte-Steine entwerfen und auslegen
DESCRIPTION:Die Kinder der Ganztagsbetreuung der COS und ENS haben die Möglichkeit ihr persönlich wichtigstes Kinderrecht schriftlich und bildlich auf einen Stein zu verewiegen. Die Steine können mit nach Haus genommen und vor der Haustür und im Garten ausgelegt werden.
URL:https://stormarner-kindertage.de/veranstaltung/kinderrechte-steine-entwerfen-und-auslegen-2/
LOCATION:Carl-Orff-Schule\, Segeberger Straße 1\, Bargteheide\, 22941
ORGANIZER;CN="Jugendarbeitsteam der Stadt Bargteheide":MAILTO:koeppen@bargteheide-jat.de
END:VEVENT
BEGIN:VEVENT
DTSTART;TZID=Europe/Berlin:20210913T150000
DTEND;TZID=Europe/Berlin:20210926T170000
DTSTAMP:20260421T114852
CREATED:20210624T124058Z
LAST-MODIFIED:20210624T124402Z
UID:2172-1631545200-1632675600@stormarner-kindertage.de
SUMMARY:Sprich es aus! Kinderinterviews zu den Kinderrechten
DESCRIPTION:Während der Stormarner Kindertage werden Kinder und Jugendliche zu ihren Rechten interviewt und als Audio aufgenommen. Alles\, was euch zu euren Rechten einfällt\, darf gesagt werden! Wir nehmen die Interviews mit einem Diktiergerät auf und sammeln eure Meinung. Im Anschluss an die Stormarner Kindertage werden eure Aussagen visualisiert und beispielsweise im Rathaus ausgehängt.
URL:https://stormarner-kindertage.de/veranstaltung/sprich-es-aus-kinderinterviews-zu-den-kinderrechten/
LOCATION:Kinderinterviews in ganz Oststeinbek
ORGANIZER;CN="Kinder- und Jugendarbeit Oststeinbek":MAILTO:kontakt@jugendzentrum-oststeinbek.de
END:VEVENT
BEGIN:VEVENT
DTSTART;TZID=Europe/Berlin:20210922T133000
DTEND;TZID=Europe/Berlin:20210922T160000
DTSTAMP:20260421T114853
CREATED:20210819T124615Z
LAST-MODIFIED:20210826T120949Z
UID:2361-1632317400-1632326400@stormarner-kindertage.de
SUMMARY:Fleiß & Eis im Kinderrechtepark
DESCRIPTION:Wir wollen wieder Farbe und Glanz in den Kinderrechtepark bringen. Mit Schrubber und Seife\, Pinsel und Farbe\, wollen wir die Skulpturen für die Kinderrechte wieder erstrahlen lassen. Die Aktion wird von den Kinderhäusern BLAUER ELEFANT durchgeführt.  Die fleißigen Helfer bekommen dafür am Ende ein Eis.
URL:https://stormarner-kindertage.de/veranstaltung/fleiss-eis-im-kinderrechtepark/
LOCATION:Kinderrechte-Park\, Am Bürgerpark\, Bad Oldesloe\, 23843
ORGANIZER;CN="Kinderhaus Blauer Elefant Bad Oldesloe":MAILTO:bad-oldesloe@dksb-stormarn.de
END:VEVENT
BEGIN:VEVENT
DTSTART;TZID=Europe/Berlin:20210922T150000
DTEND;TZID=Europe/Berlin:20210922T170000
DTSTAMP:20260421T114853
CREATED:20210826T124529Z
LAST-MODIFIED:20210826T124529Z
UID:2399-1632322800-1632330000@stormarner-kindertage.de
SUMMARY:„Kinderrechte von Kindern erklärt“
DESCRIPTION:Was bedeuten die Kinderrechte eigentlich genau? Kinder zwischen 6 und 12 Jahren versuchen einige Kinderrechte zu erklären und erstellen mit den Ergebnissen einen kleinen Videofilm. Natürlich filmen die Kinder dabei selbst und bringen Ideen ein\, wie der Film geschnitten werden soll. Information und Anmeldung unter 04102-455809.
URL:https://stormarner-kindertage.de/veranstaltung/kinderrechte-von-kindern-erklaert/
LOCATION:Kinderhaus BLAUER ELEFANT Ahrensburg\, Hörnumweg 2\, Ahrensburg\, 22926
ORGANIZER;CN="Kinderhaus BLAUER ELEFANT Ahrensburg":MAILTO:ahrensburg@dksb-stormarn.de
END:VEVENT
BEGIN:VEVENT
DTSTART;TZID=Europe/Berlin:20210922T153000
DTEND;TZID=Europe/Berlin:20210922T173000
DTSTAMP:20260421T114853
CREATED:20210708T114117Z
LAST-MODIFIED:20210708T114117Z
UID:2263-1632324600-1632331800@stormarner-kindertage.de
SUMMARY:Spielplatz Weidenkamp Bad Oldesloe
DESCRIPTION:An diesem Tag hat das ELEFANTO-SPIELMOBIL den Gaukler Hektor mit dabei. Er zaubert Euch heute etwas rund um die Kinderrechte vor. Mit dabei sind natürlich auch alle anderen Spielsachen\, außerdem kann ein Elefant aus Pappe gebastelt werden.
URL:https://stormarner-kindertage.de/veranstaltung/spielplatz-weidenkamp-bad-oldesloe/
LOCATION:Spielplatz Weidenkamp\, Bad Oldesloe\, 23843
ORGANIZER;CN="Der Kinderschutzbund Kreisverband Stormarn e.V.":MAILTO:info@dksb-stormarn.de
END:VEVENT
BEGIN:VEVENT
DTSTART;TZID=Europe/Berlin:20210922T154500
DTEND;TZID=Europe/Berlin:20210922T163000
DTSTAMP:20260421T114853
CREATED:20210901T134849Z
LAST-MODIFIED:20210921T102719Z
UID:2444-1632325500-1632328200@stormarner-kindertage.de
SUMMARY:Zumba Kids
DESCRIPTION:Spaß an der Bewegung\, Spaß am Tanzen. Ganz ohne Perfektionsanspruch. Das ist Zumba. Wir laden Kinder im Altern von 7-10 Jahren ein\, das einfach mal auszuprobieren!
URL:https://stormarner-kindertage.de/veranstaltung/zumba-kids/
LOCATION:Studio TSVB im Freizeitzentrum Lohe\, Robert-Bosch-Weg 2\, Bargteheide\, 22941
END:VEVENT
BEGIN:VEVENT
DTSTART;TZID=Europe/Berlin:20210922T154500
DTEND;TZID=Europe/Berlin:20210922T171500
DTSTAMP:20260421T114853
CREATED:20210901T135921Z
LAST-MODIFIED:20210921T102603Z
UID:2450-1632325500-1632330900@stormarner-kindertage.de
SUMMARY:Eltern-Kind-Turnen 2-5 Jahre
DESCRIPTION:Im Verein haben wir einige Eltern-Kind-Gruppen. Wir laden Eltern herzlich ein\, das Kind in einem gesicherten Raum klettern\, balancieren und springen zu lassen. Dass Kinder sich ausprobieren können ist wichtig für die motorische Entwicklung und für die Selbsteinschätzung.
URL:https://stormarner-kindertage.de/veranstaltung/eltern-kind-turnen-2-5-jahre/
LOCATION:Sporthalle der Carl-Orff-Schule\, Segeberger Straße 1\, Bargteheide\, 22941
END:VEVENT
BEGIN:VEVENT
DTSTART;TZID=Europe/Berlin:20210922T170000
DTEND;TZID=Europe/Berlin:20210922T180000
DTSTAMP:20260421T114853
CREATED:20210901T143426Z
LAST-MODIFIED:20210901T143426Z
UID:2468-1632330000-1632333600@stormarner-kindertage.de
SUMMARY:Zumba Kids
DESCRIPTION:Zumba für Kids von 6 bis 10 Jahren. Diese Party wird dir Spaß machen. Mit der lizenzierten\, peruanischen Trainerin Claudia. Tanzen\, Spaß haben und dabei auch noch fit werden? Seit es Zumba gibt\, geht das. Der Fitnesstrend aus Kolumbien enthält Schritte aus u.a. lateinamerikanischen Tänzen wie Salsa\, Merengue oder Cumbia. Die Schritte sind leicht zu erlernen und man braucht keine tänzerischen Vorkenntnisse.
URL:https://stormarner-kindertage.de/veranstaltung/zumba-kids-4/
LOCATION:Sporthalle Grundschule Hoisbüttel\, Teichweg\, Ammersbek\, 22949
ORGANIZER;CN="Hoisb%C3%BCtteler Sportverein":MAILTO:verein@hoisbuetteler-sv.de
END:VEVENT
BEGIN:VEVENT
DTSTART;TZID=Europe/Berlin:20210922T180000
DTEND;TZID=Europe/Berlin:20210922T200000
DTSTAMP:20260421T114853
CREATED:20210610T145557Z
LAST-MODIFIED:20210625T083211Z
UID:2129-1632333600-1632340800@stormarner-kindertage.de
SUMMARY:Themenabend: Gesundheitsfördernde Ernährung im Familienalltag
DESCRIPTION:Kinder „richtig“ zu ernähren wirft bei vielen Eltern unterschiedlichste Fragen auf\, z. B.: Wie sieht die „richtige“ Ernährung aus? Gibt es sie überhaupt? Erhält mein Kind alle Nährstoffe\, die es braucht? Was bedeutet gesundheitsfördernde Ernährung im Familienalltag? Wie kann diese im zeitknappen Alltag entspannt umgesetzt werden? Wie bringe ich unterschiedliche Vorlieben verschiedener Familienmitglieder unter einen Hut? Wie bringe ich mein Kind dazu\, neue Speisen zu probieren? Beste Absichten mit Wünschen und Vorlieben aller Familienmitglieder harmonisch zu vereinen\, ist oft eine Herausforderung. Doch nicht nur die Nahrungsmittel spielen eine Rolle\, auch das Drumherum\, die Ess-Situation\, sind prägend. Stärken Sie Ihre Ernährungskompetenzen! Lernen Sie einen bewussten und gleichzeitig gelassenen Umgang mit dem Thema Ernährung kennen\, auch mit knappem Zeit- oder Geldbudget. Erhalten Sie Anregungen\, vielfältige Herausforderungen unter einen Hut zu bekommen. Fragen Sie\, um Sicherheit zu erlangen oder diese zu festigen. Finden Sie mit Hilfe dieses Abends heraus\, was an Ihrem Tisch zur „stressfreien“ Mahlzeit beiträgt. \nReferentin: Diplom-Ökotrophologin Costanza Müller \n 
URL:https://stormarner-kindertage.de/veranstaltung/themenabend-gesundheitsfoerdernde-ernaehrung-im-familienalltag/
LOCATION:Online über Go-to-Meeting; bitte schreiben Sie eine E-Mail an familienzentrumfasiba@t-online.de. Sie erhalten dann den Zugangs-Link.
ORGANIZER;CN="Familienzentrum FaSiBa":MAILTO:familienzentrumfasiba@t-online.de
END:VEVENT
BEGIN:VEVENT
DTSTART;TZID=Europe/Berlin:20210922T180000
DTEND;TZID=Europe/Berlin:20210922T200000
DTSTAMP:20260421T114853
CREATED:20210903T091306Z
LAST-MODIFIED:20210903T091306Z
UID:2538-1632333600-1632340800@stormarner-kindertage.de
SUMMARY:Gutscheine an bedürftige Familien mit Kindern
DESCRIPTION:Wir werden im Rahmen der Teestube am 22.09.2021 zwischen 18:00 und 20:00 Uhr Gutscheine von Sammeln und Schenken by Kinderreigen an besonders benachteiligte geflohene Kinder\, welche noch einmal mehr unter der Pandemie gelitten haben\, verteilen.
URL:https://stormarner-kindertage.de/veranstaltung/gutscheine-an-beduerftige-familien-mit-kindern/
LOCATION:Bunte Vielfalt Teestube\, Lindenstraße 2\, Bargteheide\, 22941
ORGANIZER;CN="Bunte Vielfalt Bargteheide Stadt und Land":MAILTO:bvbsl@web.de
END:VEVENT
END:VCALENDAR